Workbook

Sheet PLTH1
A1: PHỤ LỤC 01
A2: TỔNG HỢP DỰ KIẾN PHÂN BỔ KẾ HOẠCH VỐN ĐẦU TƯ CÔNG NĂM 2026 CHO CÁC ĐƠN VỊ THỰC HIỆN CÁC DỰ ÁN THÀNH PHẦN THUỘC CHƯƠNG TRÌNH MỤC TIÊU QUỐC GIA XÂY DỰNG NÔNG THÔN MỚI, GIẢM NGHÈO BỀN VỮNG VÀ PHÁT TRIỂN KINH TẾ - XÃ HỘI VÙNG ĐỒNG BÀO DÂN TỘC THIỂU SỐ VÀ MIỀN NÚI GIAI ĐOẠN 2026-2035, GIAI ĐOẠN I: TỪ NĂM 2026 ĐẾN NĂM 2030 TRÊN ĐỊA BÀN PHƯỜNG ĐĂK CẤM
A3: (Kèm theo Nghị quyết số …./NQ-HĐND ngày ….. tháng 9 năm 2026 của Hội đồng nhân dân phường Đăk Cấm)
H4: ĐVT: đồng
A5: STT | B5: Chủ đầu tư/ Đơn vị đầu mối giao kế hoạch vốn thực hiện Chương tình mục tiêu quốc gia | C5: Điểm phân bổ từ Ngân sách trung ương và Ngân sách tỉnh | E5: Kế hoạch vốn đầu tư công năm 2026 | I5: Ghi chú
C8: NSTW | D8: NS tỉnh | E8: Tổng vốn | F8: Trong đó:
F9: NSTW | G9: NS tỉnh | H9: NS cấp xã (*)
B10: TỔNG CỘNG (I) và (II) | E10: =E11+E13 -> 522146000 | F10: =F11+F13 -> 0 | G10: =G11+G13 -> 269146000 | H10: =H11+H13 -> 253000000
A11: ='PL 1.1'!A12 -> I | B11: ='PL 1.1'!B12 -> HỢP PHẦN THỨ NHẤT | E11: =E12 -> 522146000 | F11: =F12 -> 0 | G11: =G12 -> 269146000 | H11: =H12 -> 253000000
B12: ='PL 1.1'!C15 -> Phòng Kinh tế, Hạ tầng và Đô thị phường Đăk Cấm | E12: =SUM(F12:H12) -> 522146000 | F12: ='PL 1.1'!E15 -> 0 | G12: ='PL 1.1'!F15 -> 269146000 | H12: ='PL 1.1'!G15 -> 253000000
A13: ='PL 1.1'!A16 -> II | B13: ='PL 1.1'!B16 -> HỢP PHẦN THỨ HAI: CÁC NỘI DUNG ĐẶC THÙ PHÁT TRIỂN KINH TẾ - XÃ HỘI VÙNG ĐỒNG BÀO DTTS&MN | E13: =SUM(F13:H13) -> 0 | F13: ='PL 1.1'!E16 -> 0 | G13: ='PL 1.1'!F16 -> 0 | H13: ='PL 1.1'!G16 -> 0
B14: (*) NS cấp xã: dự kiến bổ sung từ nguồn dự phòng ngân sách phường năm 2026.

Sheet PL 1.1
A1: PHỤ LỤC 01.1
A2: DỰ KIẾN PHÂN BỔ CHI TIẾT KẾ HOẠCH VỐN ĐẦU TƯ CÔNG NĂM 2026 CHO CÁC ĐƠN VỊ THỰC HIỆN CÁC DỰ ÁN THÀNH PHẦN THUỘC CHƯƠNG TRÌNH MỤC TIÊU QUỐC GIA XÂY DỰNG NÔNG THÔN MỚI, GIẢM NGHÈO BỀN VỮNG VÀ PHÁT TRIỂN KINH TẾ - XÃ HỘI VÙNG ĐỒNG BÀO DÂN TỘC THIỂU SỐ VÀ MIỀN NÚI GIAI ĐOẠN 2026-2035, GIAI ĐOẠN I: TỪ NĂM 2026 ĐẾN NĂM 2030 TRÊN ĐỊA BÀN PHƯỜNG ĐĂK CẤM
A3: Nguồn vốn: Ngân sách trung ương và ngân sách cấp tỉnh
A4: =PLTH1!A3 -> (Kèm theo Nghị quyết số …./NQ-HĐND ngày ….. tháng 9 năm 2026 của Hội đồng nhân dân phường Đăk Cấm)
F5: =PLTH1!H4 -> ĐVT: đồng
A6: STT | B6: Nội dung/dự án | C6: Chủ đầu tư/ Đơn vị đầu mối giao kế hoạch vốn | D6: Tổng kế hoạch vốn đầu tư công năm 2026 | H6: Ghi chú
D9: Tổng cộng | E9: Trong đó:
E10: NSTW | F10: NS tỉnh | G10: NS cấp xã
B11: TỔNG CỘNG (I) và (II) | D11: =D12+D16 -> 522146000 | E11: =E12+E16 -> 0 | F11: =F12+F16 -> 269146000 | G11: =G12+G16 -> 253000000
A12: I | B12: HỢP PHẦN THỨ NHẤT | D12: =D13 -> 522146000 | E12: =E13 -> 0 | F12: =F13 -> 269146000 | G12: =G13 -> 253000000
A13: 1 | B13: Nội dung thành phần 02: Phát triển hạ tầng kinh tế - xã hội nông thôn toàn diện, đồng bộ, hiện đại, kết nối hiệu quả với đô thị và thích ứng với biến đổi khí hậu | D13: =D14 -> 522146000 | E13: =E14 -> 0 | F13: =F14 -> 269146000 | G13: =G14 -> 253000000
A14: 1.1 | B14: Nội dung 01: Tiếp tục hoàn thiện và nâng cao chất lượng hệ thống hạ tầng giao thông (bao gồm cả cầu dân sinh, công trình giao thông) phục vụ dân sinh, sản xuất và kinh doanh trên địa bàn xã, thôn; hạ tầng giao thông kết nối liên xã, liên thôn theo hướng đồng bộ, hiện đại, thích ứng với biến đổi khí hậu, phù hợp với đặc thù vùng, miền và bảo đảm kết nối hiệu quả. Trong đó, tập trung, ưu tiên hỗ trợ đầu tư cho các xã, thôn đặc biệt khó khăn, vùng đồng bào DTTS&MN, an toàn khu, biên giới và hải đảo | D14: =SUM(D15:D15) -> 522146000 | E14: =E15 -> 0 | F14: =F15 -> 269146000 | G14: =G15 -> 253000000
A15: - | B15: Dự án: Đầu tư hệ thống thoát nước dọc và gia cố lế hai bên đường từ ngã tư nhà ông Trần Văn Tùng đến nhà ông A Thiết, thôn 5 Plei Rơ Lơng, phường Đăk Cấm | C15: Phòng Kinh tế, Hạ tầng và Đô thị phường Đăk Cấm | D15: =SUM(E15:G15) -> 522146000 | E15: 0 | F15: 269146000 | G15: 253000000
A16: II | B16: HỢP PHẦN THỨ HAI: CÁC NỘI DUNG ĐẶC THÙ PHÁT TRIỂN KINH TẾ - XÃ HỘI VÙNG ĐỒNG BÀO DTTS&MN | D16: 0 | E16: 0 | F16: 0 | G16: 0
